BEGIN:VCALENDAR
VERSION:2.0
PRODID:-//jEvents 2.0 for Joomla//EN
CALSCALE:GREGORIAN
METHOD:PUBLISH
BEGIN:VEVENT
UID:ea41c62bcd58de6bae4dc5e80fb1b4b4
CATEGORIES:DEFAULT
SUMMARY:Progress Reports - Field Trip-Arden Theater Grades 3, 4 & 5
DESCRIPTION;ENCODING=QUOTED-PRINTABLE:
DTSTAMP:20260419T151759Z
DTSTART:20250501T123000Z
SEQUENCE:0
TRANSP:OPAQUE
END:VEVENT
END:VCALENDAR