BEGIN:VCALENDAR
VERSION:2.0
PRODID:-//jEvents 2.0 for Joomla//EN
CALSCALE:GREGORIAN
METHOD:PUBLISH
BEGIN:VEVENT
UID:8797c9f553e3a91f46a067571d3cf29e
CATEGORIES:DEFAULT
SUMMARY:Feast of St. Athanasius - Mass
DESCRIPTION;ENCODING=QUOTED-PRINTABLE:
DTSTAMP:20260421T103826Z
DTSTART:20250502T130000Z
DTEND:20250502T210000Z
SEQUENCE:0
TRANSP:OPAQUE
END:VEVENT
END:VCALENDAR