BEGIN:VCALENDAR
VERSION:2.0
PRODID:-//jEvents 2.0 for Joomla//EN
CALSCALE:GREGORIAN
METHOD:PUBLISH
BEGIN:VEVENT
UID:485b8306de1b49996925d09307417514
CATEGORIES:DEFAULT
SUMMARY:1st Holy Communion
DESCRIPTION;ENCODING=QUOTED-PRINTABLE:
DTSTAMP:20260421T103955Z
DTSTART:20250504T123000Z
DTEND:20250504T210000Z
SEQUENCE:0
TRANSP:OPAQUE
END:VEVENT
END:VCALENDAR