BEGIN:VCALENDAR
VERSION:2.0
PRODID:-//jEvents 2.0 for Joomla//EN
CALSCALE:GREGORIAN
METHOD:PUBLISH
BEGIN:VEVENT
UID:c3edee8b44cd73e6021408d739b50202
CATEGORIES:DEFAULT
SUMMARY:Early Dismissal - Middle States Review
DESCRIPTION;ENCODING=QUOTED-PRINTABLE:
DTSTAMP:20260421T102024Z
DTSTART:20250508T154500Z
SEQUENCE:0
TRANSP:OPAQUE
END:VEVENT
END:VCALENDAR