BEGIN:VCALENDAR
VERSION:2.0
PRODID:-//jEvents 2.0 for Joomla//EN
CALSCALE:GREGORIAN
METHOD:PUBLISH
BEGIN:VEVENT
UID:3e695d38cb483085ed1c0f210bd563e0
CATEGORIES:DEFAULT
SUMMARY:Early Dismissal 
DESCRIPTION;ENCODING=QUOTED-PRINTABLE:
DTSTAMP:20260421T101457Z
DTSTART:20250509T154500Z
DTEND:20250509T210000Z
SEQUENCE:0
TRANSP:OPAQUE
END:VEVENT
END:VCALENDAR