BEGIN:VCALENDAR
VERSION:2.0
PRODID:-//jEvents 2.0 for Joomla//EN
CALSCALE:GREGORIAN
METHOD:PUBLISH
BEGIN:VEVENT
UID:03a9829207db74ffaab5855458298ab3
CATEGORIES:DEFAULT
SUMMARY:Designer Bag BINGO
DESCRIPTION;ENCODING=QUOTED-PRINTABLE:
DTSTAMP:20260421T102202Z
DTSTART:20250510T123000Z
SEQUENCE:0
TRANSP:OPAQUE
END:VEVENT
END:VCALENDAR