BEGIN:VCALENDAR
VERSION:2.0
PRODID:-//jEvents 2.0 for Joomla//EN
CALSCALE:GREGORIAN
METHOD:PUBLISH
BEGIN:VEVENT
UID:f33db487deaa5472a86c46a44dfea1ec
CATEGORIES:DEFAULT
SUMMARY:Scholastic Book Fair -  May Procession Practice
DESCRIPTION;ENCODING=QUOTED-PRINTABLE:
DTSTAMP:20260421T101519Z
DTSTART:20250512T123000Z
SEQUENCE:0
TRANSP:OPAQUE
END:VEVENT
END:VCALENDAR