BEGIN:VCALENDAR
VERSION:2.0
PRODID:-//jEvents 2.0 for Joomla//EN
CALSCALE:GREGORIAN
METHOD:PUBLISH
BEGIN:VEVENT
UID:4a4f5c43d404f5d1d2c0eb774049c5d6
CATEGORIES:DEFAULT
SUMMARY:Scholastic Book Fair
DESCRIPTION;ENCODING=QUOTED-PRINTABLE:
DTSTAMP:20260421T100648Z
DTSTART:20250513T123000Z
SEQUENCE:0
TRANSP:OPAQUE
END:VEVENT
END:VCALENDAR