BEGIN:VCALENDAR
VERSION:2.0
PRODID:-//jEvents 2.0 for Joomla//EN
CALSCALE:GREGORIAN
METHOD:PUBLISH
BEGIN:VEVENT
UID:470e658ef514f24826e799a433223467
CATEGORIES:DEFAULT
SUMMARY:Scholastic Book Fair
DESCRIPTION;ENCODING=QUOTED-PRINTABLE:
DTSTAMP:20260421T103441Z
DTSTART:20250514T123000Z
SEQUENCE:0
TRANSP:OPAQUE
END:VEVENT
END:VCALENDAR