BEGIN:VCALENDAR
VERSION:2.0
PRODID:-//jEvents 2.0 for Joomla//EN
CALSCALE:GREGORIAN
METHOD:PUBLISH
BEGIN:VEVENT
UID:8ba526227d636a843da981b61706e2bd
CATEGORIES:DEFAULT
SUMMARY:May Procession Practice
DESCRIPTION;ENCODING=QUOTED-PRINTABLE:
DTSTAMP:20260421T103540Z
DTSTART:20250519T123000Z
SEQUENCE:0
TRANSP:OPAQUE
END:VEVENT
END:VCALENDAR