BEGIN:VCALENDAR
VERSION:2.0
PRODID:-//jEvents 2.0 for Joomla//EN
CALSCALE:GREGORIAN
METHOD:PUBLISH
BEGIN:VEVENT
UID:e834cfdd92abef92c8e2d08b97195c26
CATEGORIES:DEFAULT
SUMMARY:May Procession Mass
DESCRIPTION;ENCODING=QUOTED-PRINTABLE:
DTSTAMP:20260421T103941Z
DTSTART:20250521T130000Z
SEQUENCE:0
TRANSP:OPAQUE
END:VEVENT
END:VCALENDAR