BEGIN:VCALENDAR
VERSION:2.0
PRODID:-//jEvents 2.0 for Joomla//EN
CALSCALE:GREGORIAN
METHOD:PUBLISH
BEGIN:VEVENT
UID:9bc15afe4838e89eb786110abbb46508
CATEGORIES:DEFAULT
SUMMARY:Field Trip Academy of Natural Science - Grades 6,7 & 8
DESCRIPTION;ENCODING=QUOTED-PRINTABLE:
DTSTAMP:20260419T150208Z
DTSTART:20250522T123000Z
SEQUENCE:0
TRANSP:OPAQUE
END:VEVENT
END:VCALENDAR