BEGIN:VCALENDAR
VERSION:2.0
PRODID:-//jEvents 2.0 for Joomla//EN
CALSCALE:GREGORIAN
METHOD:PUBLISH
BEGIN:VEVENT
UID:acf996b0b24f327ef4491de3ca4f6fee
CATEGORIES:DEFAULT
SUMMARY:St Patrick's Day
DESCRIPTION;ENCODING=QUOTED-PRINTABLE:
DTSTAMP:20260422T104102Z
DTSTART:20260317T123000Z
SEQUENCE:0
TRANSP:OPAQUE
END:VEVENT
END:VCALENDAR